BEGIN:VCALENDAR
VERSION:2.0
PRODID:-//IndyHumane - ECPv6.15.16//NONSGML v1.0//EN
CALSCALE:GREGORIAN
METHOD:PUBLISH
X-ORIGINAL-URL:https://indyhumane.org
X-WR-CALDESC:Events for IndyHumane
REFRESH-INTERVAL;VALUE=DURATION:PT1H
X-Robots-Tag:noindex
X-PUBLISHED-TTL:PT1H
BEGIN:VTIMEZONE
TZID:America/Indiana/Indianapolis
BEGIN:DAYLIGHT
TZOFFSETFROM:-0500
TZOFFSETTO:-0400
TZNAME:EDT
DTSTART:20250309T070000
END:DAYLIGHT
BEGIN:STANDARD
TZOFFSETFROM:-0400
TZOFFSETTO:-0500
TZNAME:EST
DTSTART:20251102T060000
END:STANDARD
BEGIN:DAYLIGHT
TZOFFSETFROM:-0500
TZOFFSETTO:-0400
TZNAME:EDT
DTSTART:20260308T070000
END:DAYLIGHT
BEGIN:STANDARD
TZOFFSETFROM:-0400
TZOFFSETTO:-0500
TZNAME:EST
DTSTART:20261101T060000
END:STANDARD
BEGIN:DAYLIGHT
TZOFFSETFROM:-0500
TZOFFSETTO:-0400
TZNAME:EDT
DTSTART:20270314T070000
END:DAYLIGHT
BEGIN:STANDARD
TZOFFSETFROM:-0400
TZOFFSETTO:-0500
TZNAME:EST
DTSTART:20271107T060000
END:STANDARD
END:VTIMEZONE
BEGIN:VEVENT
DTSTART;TZID=America/Indiana/Indianapolis:20260221T120000
DTEND;TZID=America/Indiana/Indianapolis:20260221T150000
DTSTAMP:20260221T193136
CREATED:20260105T201504Z
LAST-MODIFIED:20260105T201504Z
UID:12423-1771675200-1771686000@indyhumane.org
SUMMARY:PetSmart Adopt Joy Event
DESCRIPTION:
URL:https://indyhumane.org/event/petsmart-adopt-joy-event/
LOCATION:PetSmart Indy\, 5750 W 86th St\, Indianapolis\, IN\, United States
END:VEVENT
BEGIN:VEVENT
DTSTART;TZID=America/Indiana/Indianapolis:20260225T190000
DTEND;TZID=America/Indiana/Indianapolis:20260225T210000
DTSTAMP:20260221T193136
CREATED:20260217T020330Z
LAST-MODIFIED:20260217T020348Z
UID:12586-1772046000-1772053200@indyhumane.org
SUMMARY:NY Dog Film Festival
DESCRIPTION:
URL:https://indyhumane.org/event/ny-dog-film-festival/
LOCATION:Landmark Glendale 12 Theatre\, 6102 N Rural St\, Indianapolis\, IN\, 46220
ATTACH;FMTTYPE=image/jpeg:https://indyhumane.org/wp-content/uploads/2026/02/c9a8f63e75ab96bafc9b407deae8541f.jpg
END:VEVENT
END:VCALENDAR