BEGIN:VCALENDAR
VERSION:2.0
PRODID:-//IndyHumane - ECPv6.15.20//NONSGML v1.0//EN
CALSCALE:GREGORIAN
METHOD:PUBLISH
X-WR-CALNAME:IndyHumane
X-ORIGINAL-URL:https://indyhumane.org
X-WR-CALDESC:Events for IndyHumane
REFRESH-INTERVAL;VALUE=DURATION:PT1H
X-Robots-Tag:noindex
X-PUBLISHED-TTL:PT1H
BEGIN:VTIMEZONE
TZID:America/Indiana/Indianapolis
BEGIN:DAYLIGHT
TZOFFSETFROM:-0500
TZOFFSETTO:-0400
TZNAME:EDT
DTSTART:20250309T070000
END:DAYLIGHT
BEGIN:STANDARD
TZOFFSETFROM:-0400
TZOFFSETTO:-0500
TZNAME:EST
DTSTART:20251102T060000
END:STANDARD
BEGIN:DAYLIGHT
TZOFFSETFROM:-0500
TZOFFSETTO:-0400
TZNAME:EDT
DTSTART:20260308T070000
END:DAYLIGHT
BEGIN:STANDARD
TZOFFSETFROM:-0400
TZOFFSETTO:-0500
TZNAME:EST
DTSTART:20261101T060000
END:STANDARD
BEGIN:DAYLIGHT
TZOFFSETFROM:-0500
TZOFFSETTO:-0400
TZNAME:EDT
DTSTART:20270314T070000
END:DAYLIGHT
BEGIN:STANDARD
TZOFFSETFROM:-0400
TZOFFSETTO:-0500
TZNAME:EST
DTSTART:20271107T060000
END:STANDARD
END:VTIMEZONE
BEGIN:VEVENT
DTSTART;TZID=America/Indiana/Indianapolis:20260502T120000
DTEND;TZID=America/Indiana/Indianapolis:20260502T150000
DTSTAMP:20260423T103504
CREATED:20260331T191143Z
LAST-MODIFIED:20260331T191143Z
UID:13055-1777723200-1777734000@indyhumane.org
SUMMARY:PetSmart Adoption Event
DESCRIPTION:
URL:https://indyhumane.org/event/petsmart-adoption-event-51/
LOCATION:PetSmart Indy\, 5750 W 86th St\, Indianapolis\, IN\, United States
END:VEVENT
BEGIN:VEVENT
DTSTART;TZID=America/Indiana/Indianapolis:20260503T120000
DTEND;TZID=America/Indiana/Indianapolis:20260503T150000
DTSTAMP:20260423T103504
CREATED:20260331T191237Z
LAST-MODIFIED:20260331T191237Z
UID:13057-1777809600-1777820400@indyhumane.org
SUMMARY:PetSmart Adoption Event
DESCRIPTION:
URL:https://indyhumane.org/event/petsmart-adoption-event-52/
LOCATION:PetSmart Castleton\, 5151 E 82nd St\, Castleton\, IN\, 46250\, United States
END:VEVENT
BEGIN:VEVENT
DTSTART;TZID=America/Indiana/Indianapolis:20260509T120000
DTEND;TZID=America/Indiana/Indianapolis:20260509T160000
DTSTAMP:20260423T103504
CREATED:20260331T191308Z
LAST-MODIFIED:20260331T191308Z
UID:13059-1778328000-1778342400@indyhumane.org
SUMMARY:PetSmart Adoption Event
DESCRIPTION:
URL:https://indyhumane.org/event/petsmart-adoption-event-53/
LOCATION:PetSmart Carmel\, 14720 Greyhound Plaza\, Carmel\, 46032\, United States
END:VEVENT
BEGIN:VEVENT
DTSTART;TZID=America/Indiana/Indianapolis:20260517T120000
DTEND;TZID=America/Indiana/Indianapolis:20260517T150000
DTSTAMP:20260423T103504
CREATED:20260331T191348Z
LAST-MODIFIED:20260331T191348Z
UID:13061-1779019200-1779030000@indyhumane.org
SUMMARY:PetSmart Adoption Event
DESCRIPTION:
URL:https://indyhumane.org/event/petsmart-adoption-event-54/
LOCATION:PetSmart Indy\, 5750 W 86th St\, Indianapolis\, IN\, United States
END:VEVENT
BEGIN:VEVENT
DTSTART;VALUE=DATE:20260522
DTEND;VALUE=DATE:20260524
DTSTAMP:20260423T103504
CREATED:20260331T191435Z
LAST-MODIFIED:20260331T191435Z
UID:13063-1779408000-1779580799@indyhumane.org
SUMMARY:PawJama Party Pick Ups
DESCRIPTION:
URL:https://indyhumane.org/event/pawjama-party-pick-ups/
LOCATION:Indy Humane\, 7929 N Michigan Rd\, Indianapolis\, IN\, 46268\, United States
END:VEVENT
BEGIN:VEVENT
DTSTART;VALUE=DATE:20260525
DTEND;VALUE=DATE:20260526
DTSTAMP:20260423T103504
CREATED:20260331T191536Z
LAST-MODIFIED:20260331T191536Z
UID:13067-1779667200-1779753599@indyhumane.org
SUMMARY:Closed for Memorial Day
DESCRIPTION:
URL:https://indyhumane.org/event/closed-for-memorial-day/
LOCATION:Indy Humane\, 7929 N Michigan Rd\, Indianapolis\, IN\, 46268\, United States
END:VEVENT
BEGIN:VEVENT
DTSTART;VALUE=DATE:20260526
DTEND;VALUE=DATE:20260527
DTSTAMP:20260423T103504
CREATED:20260331T191505Z
LAST-MODIFIED:20260331T191505Z
UID:13065-1779753600-1779839999@indyhumane.org
SUMMARY:PawJama Party Drop Offs
DESCRIPTION:
URL:https://indyhumane.org/event/pawjama-party-drop-offs/
LOCATION:Indy Humane\, 7929 N Michigan Rd\, Indianapolis\, IN\, 46268\, United States
END:VEVENT
END:VCALENDAR