BEGIN:VCALENDAR
VERSION:2.0
PRODID:-//IndyHumane - ECPv6.15.20//NONSGML v1.0//EN
CALSCALE:GREGORIAN
METHOD:PUBLISH
X-ORIGINAL-URL:https://indyhumane.org
X-WR-CALDESC:Events for IndyHumane
REFRESH-INTERVAL;VALUE=DURATION:PT1H
X-Robots-Tag:noindex
X-PUBLISHED-TTL:PT1H
BEGIN:VTIMEZONE
TZID:America/Indiana/Indianapolis
BEGIN:DAYLIGHT
TZOFFSETFROM:-0500
TZOFFSETTO:-0400
TZNAME:EDT
DTSTART:20240310T070000
END:DAYLIGHT
BEGIN:STANDARD
TZOFFSETFROM:-0400
TZOFFSETTO:-0500
TZNAME:EST
DTSTART:20241103T060000
END:STANDARD
BEGIN:DAYLIGHT
TZOFFSETFROM:-0500
TZOFFSETTO:-0400
TZNAME:EDT
DTSTART:20250309T070000
END:DAYLIGHT
BEGIN:STANDARD
TZOFFSETFROM:-0400
TZOFFSETTO:-0500
TZNAME:EST
DTSTART:20251102T060000
END:STANDARD
BEGIN:DAYLIGHT
TZOFFSETFROM:-0500
TZOFFSETTO:-0400
TZNAME:EDT
DTSTART:20260308T070000
END:DAYLIGHT
BEGIN:STANDARD
TZOFFSETFROM:-0400
TZOFFSETTO:-0500
TZNAME:EST
DTSTART:20261101T060000
END:STANDARD
END:VTIMEZONE
BEGIN:VEVENT
DTSTART;TZID=America/Indiana/Indianapolis:20251101T120000
DTEND;TZID=America/Indiana/Indianapolis:20251101T150000
DTSTAMP:20260423T170500
CREATED:20251015T170221Z
LAST-MODIFIED:20251015T170221Z
UID:12214-1761998400-1762009200@indyhumane.org
SUMMARY:PetSmart Adoption Event
DESCRIPTION:
URL:https://indyhumane.org/event/petsmart-adoption-event-26/
LOCATION:PetSmart Indy\, 5750 W 86th St\, Indianapolis\, IN\, United States
END:VEVENT
BEGIN:VEVENT
DTSTART;TZID=America/Indiana/Indianapolis:20251107T180000
DTEND;TZID=America/Indiana/Indianapolis:20251107T210000
DTSTAMP:20260423T170500
CREATED:20250813T173720Z
LAST-MODIFIED:20250813T174034Z
UID:11925-1762538400-1762549200@indyhumane.org
SUMMARY:The PET Gala
DESCRIPTION:
URL:https://indyhumane.org/event/the-pet-gala/
LOCATION:Ritz Charles\, 12156 N Meridian St\, Carmel\, IN\, 46032\, United States
ATTACH;FMTTYPE=image/jpeg:https://indyhumane.org/wp-content/uploads/2025/08/stslide_65036fea-70c3-45a8-a5bd-acc700dda6e9.jpeg
END:VEVENT
BEGIN:VEVENT
DTSTART;TZID=America/Indiana/Indianapolis:20251108T090000
DTEND;TZID=America/Indiana/Indianapolis:20251108T120000
DTSTAMP:20260423T170500
CREATED:20251015T170316Z
LAST-MODIFIED:20251015T170316Z
UID:12216-1762592400-1762603200@indyhumane.org
SUMMARY:Bone Dry Mobile Clinic
DESCRIPTION:
URL:https://indyhumane.org/event/bone-dry-mobile-clinic-3/
LOCATION:Bone Dry Roofing\, 7735 Winton Dr\, Indianapolis\, IN\, 46268\, United States
END:VEVENT
BEGIN:VEVENT
DTSTART;TZID=America/Indiana/Indianapolis:20251109T120000
DTEND;TZID=America/Indiana/Indianapolis:20251109T160000
DTSTAMP:20260423T170500
CREATED:20251015T170450Z
LAST-MODIFIED:20251015T170450Z
UID:12218-1762689600-1762704000@indyhumane.org
SUMMARY:PetSmart Adoption Event
DESCRIPTION:
URL:https://indyhumane.org/event/petsmart-adoption-event-27/
LOCATION:PetSmart Carmel\, 14720 Greyhound Plaza\, Carmel\, 46032\, United States
END:VEVENT
BEGIN:VEVENT
DTSTART;TZID=America/Indiana/Indianapolis:20251115T120000
DTEND;TZID=America/Indiana/Indianapolis:20251115T150000
DTSTAMP:20260423T170500
CREATED:20251015T170545Z
LAST-MODIFIED:20251015T170545Z
UID:12220-1763208000-1763218800@indyhumane.org
SUMMARY:PetSmart Adoption Event
DESCRIPTION:
URL:https://indyhumane.org/event/petsmart-adoption-event-28/
LOCATION:PetSmart Indy\, 5750 W 86th St\, Indianapolis\, IN\, United States
END:VEVENT
BEGIN:VEVENT
DTSTART;TZID=America/Indiana/Indianapolis:20251116T120000
DTEND;TZID=America/Indiana/Indianapolis:20251116T150000
DTSTAMP:20260423T170500
CREATED:20251015T170627Z
LAST-MODIFIED:20251015T170627Z
UID:12222-1763294400-1763305200@indyhumane.org
SUMMARY:PetSmart Adoption Event
DESCRIPTION:
URL:https://indyhumane.org/event/petsmart-adoption-event-29/
LOCATION:PetSmart Noblesville\, 17180 Mercantile Blvd\, Noblesville\, IN\, 46060\, United States
END:VEVENT
BEGIN:VEVENT
DTSTART;VALUE=DATE:20251127
DTEND;VALUE=DATE:20251128
DTSTAMP:20260423T170500
CREATED:20251118T183738Z
LAST-MODIFIED:20251118T183738Z
UID:12305-1764201600-1764287999@indyhumane.org
SUMMARY:Shelter CLOSED (Michigan Road and Downtown)
DESCRIPTION:
URL:https://indyhumane.org/event/shelter-closed-michigan-road-and-downtown/
LOCATION:IN
END:VEVENT
END:VCALENDAR