BEGIN:VCALENDAR
VERSION:2.0
PRODID:-//IndyHumane - ECPv6.15.20//NONSGML v1.0//EN
CALSCALE:GREGORIAN
METHOD:PUBLISH
X-ORIGINAL-URL:https://indyhumane.org
X-WR-CALDESC:Events for IndyHumane
REFRESH-INTERVAL;VALUE=DURATION:PT1H
X-Robots-Tag:noindex
X-PUBLISHED-TTL:PT1H
BEGIN:VTIMEZONE
TZID:America/Indiana/Indianapolis
BEGIN:DAYLIGHT
TZOFFSETFROM:-0500
TZOFFSETTO:-0400
TZNAME:EDT
DTSTART:20240310T070000
END:DAYLIGHT
BEGIN:STANDARD
TZOFFSETFROM:-0400
TZOFFSETTO:-0500
TZNAME:EST
DTSTART:20241103T060000
END:STANDARD
BEGIN:DAYLIGHT
TZOFFSETFROM:-0500
TZOFFSETTO:-0400
TZNAME:EDT
DTSTART:20250309T070000
END:DAYLIGHT
BEGIN:STANDARD
TZOFFSETFROM:-0400
TZOFFSETTO:-0500
TZNAME:EST
DTSTART:20251102T060000
END:STANDARD
BEGIN:DAYLIGHT
TZOFFSETFROM:-0500
TZOFFSETTO:-0400
TZNAME:EDT
DTSTART:20260308T070000
END:DAYLIGHT
BEGIN:STANDARD
TZOFFSETFROM:-0400
TZOFFSETTO:-0500
TZNAME:EST
DTSTART:20261101T060000
END:STANDARD
END:VTIMEZONE
BEGIN:VEVENT
DTSTART;TZID=America/Indiana/Indianapolis:20251004T120000
DTEND;TZID=America/Indiana/Indianapolis:20251004T150000
DTSTAMP:20260423T182936
CREATED:20250822T190413Z
LAST-MODIFIED:20250822T190413Z
UID:11990-1759579200-1759590000@indyhumane.org
SUMMARY:PetSmart Adoption Event
DESCRIPTION:
URL:https://indyhumane.org/event/petsmart-adoption-event-22/
LOCATION:PetSmart Indy\, 5750 W 86th St\, Indianapolis\, IN\, United States
END:VEVENT
BEGIN:VEVENT
DTSTART;TZID=America/Indiana/Indianapolis:20251011T120000
DTEND;TZID=America/Indiana/Indianapolis:20251011T160000
DTSTAMP:20260423T182936
CREATED:20251015T165345Z
LAST-MODIFIED:20251015T165345Z
UID:12203-1760184000-1760198400@indyhumane.org
SUMMARY:PetSmart Adoption Event
DESCRIPTION:
URL:https://indyhumane.org/event/petsmart-adoption-event-23/
LOCATION:PetSmart Carmel\, 14720 Greyhound Plaza\, Carmel\, 46032\, United States
END:VEVENT
BEGIN:VEVENT
DTSTART;TZID=America/Indiana/Indianapolis:20251012T140000
DTEND;TZID=America/Indiana/Indianapolis:20251012T180000
DTSTAMP:20260423T182936
CREATED:20251015T165803Z
LAST-MODIFIED:20251015T165803Z
UID:12205-1760277600-1760292000@indyhumane.org
SUMMARY:Aspire House Annual Fall Fest
DESCRIPTION:
URL:https://indyhumane.org/event/aspire-house-annual-fall-fest/
LOCATION:Aspire House\, 1002 Udell St\, Indianapolis\, IN\, 46208\, United States
END:VEVENT
BEGIN:VEVENT
DTSTART;TZID=America/Indiana/Indianapolis:20251018T120000
DTEND;TZID=America/Indiana/Indianapolis:20251018T150000
DTSTAMP:20260423T182936
CREATED:20251015T165912Z
LAST-MODIFIED:20251015T165912Z
UID:12208-1760788800-1760799600@indyhumane.org
SUMMARY:PetSmart Adoption Event
DESCRIPTION:
URL:https://indyhumane.org/event/petsmart-adoption-event-24/
LOCATION:PetSmart Indy\, 5750 W 86th St\, Indianapolis\, IN\, United States
END:VEVENT
BEGIN:VEVENT
DTSTART;TZID=America/Indiana/Indianapolis:20251019T120000
DTEND;TZID=America/Indiana/Indianapolis:20251019T150000
DTSTAMP:20260423T182936
CREATED:20251015T170010Z
LAST-MODIFIED:20251015T170010Z
UID:12210-1760875200-1760886000@indyhumane.org
SUMMARY:PetSmart Adoption Event
DESCRIPTION:
URL:https://indyhumane.org/event/petsmart-adoption-event-25/
LOCATION:PetSmart Noblesville\, 17180 Mercantile Blvd\, Noblesville\, IN\, 46060\, United States
END:VEVENT
BEGIN:VEVENT
DTSTART;VALUE=DATE:20251020
DTEND;VALUE=DATE:20251027
DTSTAMP:20260423T182936
CREATED:20251015T170131Z
LAST-MODIFIED:20251015T170131Z
UID:12212-1760918400-1761523199@indyhumane.org
SUMMARY:PetSmart National Adoption Week
DESCRIPTION:Various locations\, TBD
URL:https://indyhumane.org/event/petsmart-national-adoption-week-12/
LOCATION:IN
END:VEVENT
END:VCALENDAR