BEGIN:VCALENDAR
VERSION:2.0
PRODID:-//IndyHumane - ECPv6.15.20//NONSGML v1.0//EN
CALSCALE:GREGORIAN
METHOD:PUBLISH
X-ORIGINAL-URL:https://indyhumane.org
X-WR-CALDESC:Events for IndyHumane
REFRESH-INTERVAL;VALUE=DURATION:PT1H
X-Robots-Tag:noindex
X-PUBLISHED-TTL:PT1H
BEGIN:VTIMEZONE
TZID:America/Indiana/Indianapolis
BEGIN:DAYLIGHT
TZOFFSETFROM:-0500
TZOFFSETTO:-0400
TZNAME:EDT
DTSTART:20230312T070000
END:DAYLIGHT
BEGIN:STANDARD
TZOFFSETFROM:-0400
TZOFFSETTO:-0500
TZNAME:EST
DTSTART:20231105T060000
END:STANDARD
BEGIN:DAYLIGHT
TZOFFSETFROM:-0500
TZOFFSETTO:-0400
TZNAME:EDT
DTSTART:20240310T070000
END:DAYLIGHT
BEGIN:STANDARD
TZOFFSETFROM:-0400
TZOFFSETTO:-0500
TZNAME:EST
DTSTART:20241103T060000
END:STANDARD
BEGIN:DAYLIGHT
TZOFFSETFROM:-0500
TZOFFSETTO:-0400
TZNAME:EDT
DTSTART:20250309T070000
END:DAYLIGHT
BEGIN:STANDARD
TZOFFSETFROM:-0400
TZOFFSETTO:-0500
TZNAME:EST
DTSTART:20251102T060000
END:STANDARD
END:VTIMEZONE
BEGIN:VEVENT
DTSTART;TZID=America/Indiana/Indianapolis:20241005T120000
DTEND;TZID=America/Indiana/Indianapolis:20241005T150000
DTSTAMP:20260424T132954
CREATED:20241008T174205Z
LAST-MODIFIED:20241008T174205Z
UID:10659-1728129600-1728140400@indyhumane.org
SUMMARY:PetSmart on W 86th St
DESCRIPTION:
URL:https://indyhumane.org/event/petsmart-on-w-86th-st/
LOCATION:PetSmart\, 5750 W. 86th St.\, Indianapolis\, IN\, 46278\, United States
END:VEVENT
BEGIN:VEVENT
DTSTART;TZID=America/Indiana/Indianapolis:20241006T100000
DTEND;TZID=America/Indiana/Indianapolis:20241006T113000
DTSTAMP:20260424T132954
CREATED:20241008T174109Z
LAST-MODIFIED:20241008T174109Z
UID:10657-1728208800-1728214200@indyhumane.org
SUMMARY:St. Paul's Episcopal Church
DESCRIPTION:
URL:https://indyhumane.org/event/st-pauls-episcopal-church/
LOCATION:Indy Humane\, 7929 N Michigan Rd\, Indianapolis\, IN\, 46268\, United States
END:VEVENT
BEGIN:VEVENT
DTSTART;TZID=America/Indiana/Indianapolis:20241019T090000
DTEND;TZID=America/Indiana/Indianapolis:20241019T120000
DTSTAMP:20260424T132954
CREATED:20241008T173918Z
LAST-MODIFIED:20241010T044714Z
UID:10650-1729328400-1729339200@indyhumane.org
SUMMARY:Microchip Event at Centier Bank
DESCRIPTION:Centier Bank Microchip Event – 9 AM to 12 PM – Appointment only \nFree Microchipping Clinic Sponsored by Centier Bank! To make an appointment\, go to indyhumane.org/mobileclinic. \n\n\n\n\n\nFor owned pets 3 months of age and older.\nPlease refrain from bringing your pet if they have symptoms of illness including: fever\, vomiting\, and diarrhea.\nALL dogs must be on a leash and cats must be secured in a carrier.\nIf your animal requires a muzzle during vet visits\, please have this secured BEFORE arriving.\nLimited availability
URL:https://indyhumane.org/event/microchip-event-at-centier-bank/
LOCATION:Centier Bank\, 1313 W 86th St\, Indianapolis\, IN\, 46260
END:VEVENT
BEGIN:VEVENT
DTSTART;TZID=America/Indiana/Indianapolis:20241020T130000
DTEND;TZID=America/Indiana/Indianapolis:20241020T160000
DTSTAMP:20260424T132954
CREATED:20241008T174003Z
LAST-MODIFIED:20241015T153102Z
UID:10653-1729429200-1729440000@indyhumane.org
SUMMARY:Canine Day at IU Indy Women's Soccer
DESCRIPTION:Canine Day at IU Indy Women’s Soccer Game\nTickets required \nWith each pooch ticket purchased\, the proceeds are donated to IndyHumane for supporting animal welfare. So grab your tickets\, leash up your four-legged friends\, and come down for an unforgettable experience. \nPurchase tickets here: https://fevo-enterprise.com/event/JagsWSOCCanineDay
URL:https://indyhumane.org/event/canine-day-at-iu-indy-womens-soccer/
LOCATION:IU Michael A. Carrol Track & Soccer Stadium\, 1001 W New York St\, Indianapolis\, IN\, 46202\, United States
END:VEVENT
BEGIN:VEVENT
DTSTART;TZID=America/Indiana/Indianapolis:20241021T120000
DTEND;TZID=America/Indiana/Indianapolis:20241021T150000
DTSTAMP:20260424T132954
CREATED:20241010T045404Z
LAST-MODIFIED:20241010T045404Z
UID:10675-1729512000-1729522800@indyhumane.org
SUMMARY:PetSmart National Adoption Week
DESCRIPTION:Come find your new furry friend during PetSmart’s National Adoption Week!
URL:https://indyhumane.org/event/petsmart-national-adoption-week-11/
LOCATION:PetSmart\, 5750 W. 86th St.\, Indianapolis\, IN\, 46278\, United States
END:VEVENT
END:VCALENDAR